BEGIN:VCALENDAR
VERSION:2.0
PRODID:-//Shady Grove Fertility - ECPv6.15.15//NONSGML v1.0//EN
CALSCALE:GREGORIAN
METHOD:PUBLISH
X-WR-CALNAME:Shady Grove Fertility
X-ORIGINAL-URL:https://www.shadygrovefertility.com
X-WR-CALDESC:Events for Shady Grove Fertility
REFRESH-INTERVAL;VALUE=DURATION:PT1H
X-Robots-Tag:noindex
X-PUBLISHED-TTL:PT1H
BEGIN:VTIMEZONE
TZID:America/New_York
BEGIN:DAYLIGHT
TZOFFSETFROM:-0500
TZOFFSETTO:-0400
TZNAME:EDT
DTSTART:20250309T070000
END:DAYLIGHT
BEGIN:STANDARD
TZOFFSETFROM:-0400
TZOFFSETTO:-0500
TZNAME:EST
DTSTART:20251102T060000
END:STANDARD
BEGIN:DAYLIGHT
TZOFFSETFROM:-0500
TZOFFSETTO:-0400
TZNAME:EDT
DTSTART:20260308T070000
END:DAYLIGHT
BEGIN:STANDARD
TZOFFSETFROM:-0400
TZOFFSETTO:-0500
TZNAME:EST
DTSTART:20261101T060000
END:STANDARD
BEGIN:DAYLIGHT
TZOFFSETFROM:-0500
TZOFFSETTO:-0400
TZNAME:EDT
DTSTART:20270314T070000
END:DAYLIGHT
BEGIN:STANDARD
TZOFFSETFROM:-0400
TZOFFSETTO:-0500
TZNAME:EST
DTSTART:20271107T060000
END:STANDARD
END:VTIMEZONE
BEGIN:VEVENT
DTSTART;TZID=America/New_York:20260424T120000
DTEND;TZID=America/New_York:20260424T130000
DTSTAMP:20260424T013550
CREATED:20240227T161116Z
LAST-MODIFIED:20260325T163634Z
UID:10000294-1777032000-1777035600@www.shadygrovefertility.com
SUMMARY:Egg Freezing Webinar + Q&A | NIAW Fertility Event Series
DESCRIPTION:Age is the single most important factor in a woman’s ability to conceive\, and egg freezing treatment can help preserve your current fertility for future family-building options. Whether the reason for freezing your eggs is because you’re currently focused on your career\, education\, treating a medical condition\, or simply waiting until the time is right\, egg freezing offers you time and options. \n\n\n\nDuring the Egg Freezing webinar\, fertility specialist\, Dr. Shelley Dolitsky\, sheds light on how\, why\, and when women choose to freeze their eggs\, followed by a live Q&A session. \n\n\n\nCan’t attend? Register anyway! We will send you a link to the recorded event. \n\n\n\nFour key things you’ll learn when you register for our free egg freezing webinar:\n\n\n\n\nExplore Shady Grove Fertility’s Egg Freezing Program\n\n\n\nHow to determine if egg freezing is right for you\n\n\n\nWhat to expect during the egg freezing process\n\n\n\nSuccess rates associated with egg freezing\, and the unique Shady Grove Fertility financial programs\n\n\n\n\n    \n          \n                    \n                          \n                \n                    \n                                            \n                                        \n                    \n                        Medical contribution by Shelley Dolitsky\, M.D.\n\n                                                                              Shelley Dolitsky\, M.D. is a compassionate and highly skilled fertility specialist who blends cutting-edge science with a patient-centered approach.  \n\n                                                                    \n                \n              \n            \n          \n                    \n            \n    \n\n\n\n\nWhat is National Infertility Awareness Week® (NIAW)?\n\n\n\n\nNIAW is a yearly initiative founded by RESOLVE: The National Infertility Association to encourage people to act as their own infertility advocates and to educate legislators and the public about the impact of infertility.\n\n\n\nVisit our events calendar to check out all special events for NIAW – happening April 19 through April 25 \n\n\n\nShady Grove Fertility is a proud partner of RESOLVE and dedicated to supporting patients coping with infertility
URL:https://www.shadygrovefertility.com/event/niaw-egg-freezing-webinar/
CATEGORIES:Webinar
ATTACH;FMTTYPE=image/png:https://www.shadygrovefertility.com/wp-content/uploads/2024/02/NIAW_EF_550x300.png
END:VEVENT
END:VCALENDAR