BEGIN:VCALENDAR
VERSION:2.0
PRODID:-//Shady Grove Fertility - ECPv6.15.15//NONSGML v1.0//EN
CALSCALE:GREGORIAN
METHOD:PUBLISH
X-WR-CALNAME:Shady Grove Fertility
X-ORIGINAL-URL:https://www.shadygrovefertility.com
X-WR-CALDESC:Events for Shady Grove Fertility
REFRESH-INTERVAL;VALUE=DURATION:PT1H
X-Robots-Tag:noindex
X-PUBLISHED-TTL:PT1H
BEGIN:VTIMEZONE
TZID:America/New_York
BEGIN:DAYLIGHT
TZOFFSETFROM:-0500
TZOFFSETTO:-0400
TZNAME:EDT
DTSTART:20250309T070000
END:DAYLIGHT
BEGIN:STANDARD
TZOFFSETFROM:-0400
TZOFFSETTO:-0500
TZNAME:EST
DTSTART:20251102T060000
END:STANDARD
BEGIN:DAYLIGHT
TZOFFSETFROM:-0500
TZOFFSETTO:-0400
TZNAME:EDT
DTSTART:20260308T070000
END:DAYLIGHT
BEGIN:STANDARD
TZOFFSETFROM:-0400
TZOFFSETTO:-0500
TZNAME:EST
DTSTART:20261101T060000
END:STANDARD
BEGIN:DAYLIGHT
TZOFFSETFROM:-0500
TZOFFSETTO:-0400
TZNAME:EDT
DTSTART:20270314T070000
END:DAYLIGHT
BEGIN:STANDARD
TZOFFSETFROM:-0400
TZOFFSETTO:-0500
TZNAME:EST
DTSTART:20271107T060000
END:STANDARD
END:VTIMEZONE
BEGIN:VEVENT
DTSTART;TZID=America/New_York:20260422T120000
DTEND;TZID=America/New_York:20260422T130000
DTSTAMP:20260422T013612
CREATED:20240227T155403Z
LAST-MODIFIED:20260325T161842Z
UID:10000370-1776859200-1776862800@www.shadygrovefertility.com
SUMMARY:Fertility Health 101 + Q&A | NIAW Fertility Event Series
DESCRIPTION:For many couples\, it takes longer to conceive than they expected and they aren’t sure what their next step should be and when to take it. The reality is 1 in 6 people experience infertility and may need help conceiving.Join Erika Johnston-MacAnanny\, M.D. for our live webinar event. Dr. Johnston-MacAnanny will review who should see a fertility specialist and the best timing for that first consultation. She will discuss what to expect during the initial physician consult\, the 4 simple tests used to diagnose infertility\, and exclusive SGF financial programs.Following the presentation\, Dr. Johnston-MacAnanny will host a live question and answer session with viewers. \n\n\n\nCan’t attend? Register anyway! We’ll email you a link to view the recorded event + Q&A. \n\n\n\n    \n          \n                    \n                          \n                \n                    \n                                            \n                                        \n                    \n                        Medical contribution by Erika B. Johnston-MacAnanny\, M.D. \n\n                                                                              Erika Johnston-MacAnanny\, M.D.\, FACOG\, is board certified in both obstetrics and gynecology and reproductive endocrinology and infertility. Dr. Johnston-MacAnanny sees SGF patients in the Richmond – Stony Point and Richmond – Henrico Doctors’ – Forest locations. \n\n                                                                    \n                \n              \n            \n          \n                    \n            \n    \n\n\n\n\nWhat is National Infertility Awareness Week® (NIAW)?\n\n\n\n\nNIAW is a yearly initiative founded by RESOLVE: The National Infertility Association to encourage people to act as their own infertility advocates and to educate legislators and the public about the impact of infertility.\n\n\n\nVisit our events calendar to check out all special events for NIAW – happening April 19 through April 25 \n\n\n\nShady Grove Fertility is a proud partner of RESOLVE and dedicated to supporting patients coping with infertility
URL:https://www.shadygrovefertility.com/event/fertility-webinar-niaw-fertility-event/
CATEGORIES:Webinar
ATTACH;FMTTYPE=image/png:https://www.shadygrovefertility.com/wp-content/uploads/2024/02/NIAW_Fertility_550x300.png
END:VEVENT
END:VCALENDAR